BEGIN:VCALENDAR
VERSION:2.0
PRODID:-//hacksw/handcal//NONSGML v1.0//EN
CALSCALE:GREGORIAN
BEGIN:VEVENT
DTEND:20070825T053000Z
UID:69eae631e3329
DTSTAMP:20260424T044033Z
LOCATION:4710 Grieskirchen
DESCRIPTION:Benefizlauf\; 2005 konnten 11.185 Euro an die OÖ. Kinderkrebshilfe gespendet werden
URL;VALUE=URI:
SUMMARY:3. Grieskirchner 12-Stundenlauf-Benefizlauf
DTSTART:20070824T230000Z
END:VEVENT
END:VCALENDAR
An internal server error occurred.