BEGIN:VCALENDAR
VERSION:2.0
PRODID:-//hacksw/handcal//NONSGML v1.0//EN
CALSCALE:GREGORIAN
BEGIN:VEVENT
DTEND:20070623T150000Z
UID:69e7d99326556
DTSTAMP:20260421T210955Z
LOCATION:8783 Gaishorn am See
DESCRIPTION:
URL;VALUE=URI:
SUMMARY:Gaishorner Sonnwendlauf
DTSTART:20070622T230000Z
END:VEVENT
END:VCALENDAR
An internal server error occurred.