BEGIN:VCALENDAR
VERSION:2.0
PRODID:-//hacksw/handcal//NONSGML v1.0//EN
CALSCALE:GREGORIAN
BEGIN:VEVENT
DTEND:20070825T140000Z
UID:69e8f99d38e87
DTSTAMP:20260422T173853Z
LOCATION:4000 Ried im Innkreis
DESCRIPTION:
URL;VALUE=URI:
SUMMARY:Andreas Steinbacher
DTSTART:20070824T230000Z
END:VEVENT
END:VCALENDAR
An internal server error occurred.