BEGIN:VCALENDAR
VERSION:2.0
PRODID:-//hacksw/handcal//NONSGML v1.0//EN
CALSCALE:GREGORIAN
BEGIN:VEVENT
DTEND:20070623T160000Z
UID:69e8122125a52
DTSTAMP:20260422T011113Z
LOCATION:6700 Bludenz
DESCRIPTION:
URL;VALUE=URI:
SUMMARY:2. Int. Sparkasse Panoramalauf  Bludenz
DTSTART:20070622T230000Z
END:VEVENT
END:VCALENDAR
An internal server error occurred.