BEGIN:VCALENDAR
VERSION:2.0
PRODID:-//hacksw/handcal//NONSGML v1.0//EN
CALSCALE:GREGORIAN
BEGIN:VEVENT
DTEND:20070825T093000Z
UID:69e93d3bc08ef
DTSTAMP:20260422T222723Z
LOCATION:3193 St. Aegyd
DESCRIPTION:
URL;VALUE=URI:
SUMMARY:Zdarsky-Hüttenberglauf
DTSTART:20070824T230000Z
END:VEVENT
END:VCALENDAR
An internal server error occurred.