BEGIN:VCALENDAR
VERSION:2.0
PRODID:-//hacksw/handcal//NONSGML v1.0//EN
CALSCALE:GREGORIAN
BEGIN:VEVENT
DTEND:20070825T140000Z
UID:69e9568bc2e13
DTSTAMP:20260423T001523Z
LOCATION:0 Hainburg
DESCRIPTION:Die Laufveranstaltung wird von Erste Bank oder Sparkasse gesponsert
URL;VALUE=URI:
SUMMARY:3. Int.  Hainburger Lauffeuer
DTSTART:20070824T230000Z
END:VEVENT
END:VCALENDAR
An internal server error occurred.