BEGIN:VCALENDAR
VERSION:2.0
PRODID:-//hacksw/handcal//NONSGML v1.0//EN
CALSCALE:GREGORIAN
BEGIN:VEVENT
DTEND:20070825T160000Z
UID:69e92cbdee762
DTSTAMP:20260422T211701Z
LOCATION:3341 Ybbsitz
DESCRIPTION:
URL;VALUE=URI:
SUMMARY:20. Ybbsitzer Marktlauf
DTSTART:20070824T230000Z
END:VEVENT
END:VCALENDAR
An internal server error occurred.