BEGIN:VCALENDAR
VERSION:2.0
PRODID:-//hacksw/handcal//NONSGML v1.0//EN
CALSCALE:GREGORIAN
BEGIN:VEVENT
DTEND:20070623T130000Z
UID:69e75d637f432
DTSTAMP:20260421T122003Z
LOCATION:2881 Trattenbach
DESCRIPTION:
URL;VALUE=URI:
SUMMARY:20. Alpkogellauf Trattenbach
DTSTART:20070622T230000Z
END:VEVENT
END:VCALENDAR
An internal server error occurred.