BEGIN:VCALENDAR
VERSION:2.0
PRODID:-//hacksw/handcal//NONSGML v1.0//EN
CALSCALE:GREGORIAN
BEGIN:VEVENT
DTEND:20070819T083000Z
UID:69e9883c8ed24
DTSTAMP:20260423T034724Z
LOCATION:6353 Kitzbühel
DESCRIPTION:
URL;VALUE=URI:
SUMMARY:29. Int. Kitzbüheler Horn-Bergstrassenlauf
DTSTART:20070818T230000Z
END:VEVENT
END:VCALENDAR
An internal server error occurred.