BEGIN:VCALENDAR
VERSION:2.0
PRODID:-//hacksw/handcal//NONSGML v1.0//EN
CALSCALE:GREGORIAN
BEGIN:VEVENT
DTEND:20070622T170000Z
UID:69e79ac973c05
DTSTAMP:20260421T164201Z
LOCATION:9545 Radenthein
DESCRIPTION:
URL;VALUE=URI:
SUMMARY:6. Radentheiner Stadtlauf 
DTSTART:20070621T230000Z
END:VEVENT
END:VCALENDAR
An internal server error occurred.