BEGIN:VCALENDAR
VERSION:2.0
PRODID:-//hacksw/handcal//NONSGML v1.0//EN
CALSCALE:GREGORIAN
BEGIN:VEVENT
DTEND:20070818T090000Z
UID:69eca14b4cff2
DTSTAMP:20260425T121107Z
LOCATION:5582 St. Michael
DESCRIPTION:Höhenlage von über 1.000 m Seehöhe verlaufen die Strecken im flachen Becken des Lungaues ohne nennenswerte Steigungen oder Gefällen. Startplätze auf 1.000 beschränkt
URL;VALUE=URI:
SUMMARY:4. Samsonman-Laufmarathon
DTSTART:20070817T230000Z
END:VEVENT
END:VCALENDAR
An internal server error occurred.