BEGIN:VCALENDAR
VERSION:2.0
PRODID:-//hacksw/handcal//NONSGML v1.0//EN
CALSCALE:GREGORIAN
BEGIN:VEVENT
DTEND:20070617T090000Z
UID:69e74196584c8
DTSTAMP:20260421T102126Z
LOCATION:4210 Gallneukirchen
DESCRIPTION:
URL;VALUE=URI:
SUMMARY:3. Gallia-Duathlon - Gallneukirchen
DTSTART:20070616T230000Z
END:VEVENT
END:VCALENDAR
An internal server error occurred.