BEGIN:VCALENDAR
VERSION:2.0
PRODID:-//hacksw/handcal//NONSGML v1.0//EN
CALSCALE:GREGORIAN
BEGIN:VEVENT
DTEND:20070815T150000Z
UID:69e87ea7e54d0
DTSTAMP:20260422T085415Z
LOCATION:0 Andorf
DESCRIPTION:
URL;VALUE=URI:
SUMMARY:Laufmeeting Andorf
DTSTART:20070814T230000Z
END:VEVENT
END:VCALENDAR
An internal server error occurred.