BEGIN:VCALENDAR
VERSION:2.0
PRODID:-//hacksw/handcal//NONSGML v1.0//EN
CALSCALE:GREGORIAN
BEGIN:VEVENT
DTEND:20070815T093000Z
UID:69e87ea85fa43
DTSTAMP:20260422T085416Z
LOCATION:4190 Bad Leonfelden
DESCRIPTION:Leichter Berglauf
URL;VALUE=URI:
SUMMARY:21. Sparkassen Sternsteinlauf  
DTSTART:20070814T230000Z
END:VEVENT
END:VCALENDAR
An internal server error occurred.