BEGIN:VCALENDAR
VERSION:2.0
PRODID:-//hacksw/handcal//NONSGML v1.0//EN
CALSCALE:GREGORIAN
BEGIN:VEVENT
DTEND:20070814T230000Z
UID:69e86356765fb
DTSTAMP:20260422T065742Z
LOCATION:3180 Lilienfeld
DESCRIPTION:
URL;VALUE=URI:
SUMMARY:Hinteralm BRUTAL-Berglauf
DTSTART:20070814T230000Z
END:VEVENT
END:VCALENDAR
An internal server error occurred.