BEGIN:VCALENDAR
VERSION:2.0
PRODID:-//hacksw/handcal//NONSGML v1.0//EN
CALSCALE:GREGORIAN
BEGIN:VEVENT
DTEND:20070629T171500Z
UID:69eca7c9ac710
DTSTAMP:20260425T123849Z
LOCATION:34292 Ahnatal
DESCRIPTION:Anmeldung bis 30 min. vor dem Start möglich
URL;VALUE=URI:
SUMMARY:28. Nationaler Abendvolkslauf des FTSV Heckershausen
DTSTART:20070628T230000Z
END:VEVENT
END:VCALENDAR
An internal server error occurred.