BEGIN:VCALENDAR
VERSION:2.0
PRODID:-//hacksw/handcal//NONSGML v1.0//EN
CALSCALE:GREGORIAN
BEGIN:VEVENT
DTEND:20070617T090000Z
UID:69e725a860612
DTSTAMP:20260421T082216Z
LOCATION:3342 Opponitz
DESCRIPTION:
URL;VALUE=URI:
SUMMARY:Opponitzer Hügellauf
DTSTART:20070616T230000Z
END:VEVENT
END:VCALENDAR
An internal server error occurred.