BEGIN:VCALENDAR
VERSION:2.0
PRODID:-//hacksw/handcal//NONSGML v1.0//EN
CALSCALE:GREGORIAN
BEGIN:VEVENT
DTEND:20070616T120000Z
UID:69e77019ad29c
DTSTAMP:20260421T133953Z
LOCATION:4150 Rohrbach
DESCRIPTION:
URL;VALUE=URI:
SUMMARY:24. Oeppinger Geländelauf
DTSTART:20070615T230000Z
END:VEVENT
END:VCALENDAR
An internal server error occurred.