BEGIN:VCALENDAR
VERSION:2.0
PRODID:-//hacksw/handcal//NONSGML v1.0//EN
CALSCALE:GREGORIAN
BEGIN:VEVENT
DTEND:20070616T120000Z
UID:69e75d6395092
DTSTAMP:20260421T122003Z
LOCATION:4901 Ottnang
DESCRIPTION:
URL;VALUE=URI:
SUMMARY:22. Bruckmühler Lauf
DTSTART:20070615T230000Z
END:VEVENT
END:VCALENDAR
An internal server error occurred.