BEGIN:VCALENDAR
VERSION:2.0
PRODID:-//hacksw/handcal//NONSGML v1.0//EN
CALSCALE:GREGORIAN
BEGIN:VEVENT
DTEND:20070616T103000Z
UID:69e77018f006c
DTSTAMP:20260421T133952Z
LOCATION:1020 Wien-Prater
DESCRIPTION:
URL;VALUE=URI:
SUMMARY:Justmenrun  (2. Tag) - Wiener Prater
DTSTART:20070615T230000Z
END:VEVENT
END:VCALENDAR
An internal server error occurred.