BEGIN:VCALENDAR
VERSION:2.0
PRODID:-//hacksw/handcal//NONSGML v1.0//EN
CALSCALE:GREGORIAN
BEGIN:VEVENT
DTEND:20070615T163000Z
UID:69e9952a6b543
DTSTAMP:20260423T044234Z
LOCATION:8020 Graz
DESCRIPTION:
URL;VALUE=URI:
SUMMARY:5. Steirischer Leukämiehilfelauf Graz
DTSTART:20070614T230000Z
END:VEVENT
END:VCALENDAR
An internal server error occurred.