BEGIN:VCALENDAR
VERSION:2.0
PRODID:-//hacksw/handcal//NONSGML v1.0//EN
CALSCALE:GREGORIAN
BEGIN:VEVENT
DTEND:20070615T110000Z
UID:69e81223698c0
DTSTAMP:20260422T011115Z
LOCATION:3100 St. Pölten
DESCRIPTION:
URL;VALUE=URI:
SUMMARY:Nestlé Austria Schullauf Finale Melk
DTSTART:20070614T230000Z
END:VEVENT
END:VCALENDAR
An internal server error occurred.