BEGIN:VCALENDAR
VERSION:2.0
PRODID:-//hacksw/handcal//NONSGML v1.0//EN
CALSCALE:GREGORIAN
BEGIN:VEVENT
DTEND:20070615T080000Z
UID:69e73ac51d2aa
DTSTAMP:20260421T095221Z
LOCATION:1020 Wien-Prater
DESCRIPTION:
URL;VALUE=URI:
SUMMARY:Justmenrun  (1. Tag) - Wiener Prater
DTSTART:20070614T230000Z
END:VEVENT
END:VCALENDAR
An internal server error occurred.