BEGIN:VCALENDAR
VERSION:2.0
PRODID:-//hacksw/handcal//NONSGML v1.0//EN
CALSCALE:GREGORIAN
BEGIN:VEVENT
DTEND:20070615T160000Z
UID:69e74196dde59
DTSTAMP:20260421T102126Z
LOCATION:2214 Auersthal
DESCRIPTION:
URL;VALUE=URI:
SUMMARY:24. Auersthaler Straßenlauf - Auersthal
DTSTART:20070614T230000Z
END:VEVENT
END:VCALENDAR
An internal server error occurred.