BEGIN:VCALENDAR
VERSION:2.0
PRODID:-//hacksw/handcal//NONSGML v1.0//EN
CALSCALE:GREGORIAN
BEGIN:VEVENT
DTEND:20070609T130000Z
UID:69e73ac7c2799
DTSTAMP:20260421T095223Z
LOCATION:7533 Ollersdorf
DESCRIPTION:
URL;VALUE=URI:
SUMMARY:Ollersdorfer Benefizmarathon
DTSTART:20070608T230000Z
END:VEVENT
END:VCALENDAR
An internal server error occurred.