BEGIN:VCALENDAR
VERSION:2.0
PRODID:-//hacksw/handcal//NONSGML v1.0//EN
CALSCALE:GREGORIAN
BEGIN:VEVENT
DTEND:20070609T130000Z
UID:69e70ec7e640f
DTSTAMP:20260421T064439Z
LOCATION:3370 Ybbs a.d.Donau
DESCRIPTION:
URL;VALUE=URI:
SUMMARY:18. Ybbser Altstadtlauf
DTSTART:20070608T230000Z
END:VEVENT
END:VCALENDAR
An internal server error occurred.