BEGIN:VCALENDAR
VERSION:2.0
PRODID:-//hacksw/handcal//NONSGML v1.0//EN
CALSCALE:GREGORIAN
BEGIN:VEVENT
DTEND:20070609T170000Z
UID:69e6e06997c43
DTSTAMP:20260421T032649Z
LOCATION:1220 Wien Lobau
DESCRIPTION:
URL;VALUE=URI:
SUMMARY:Lobaulauf
DTSTART:20070608T230000Z
END:VEVENT
END:VCALENDAR
An internal server error occurred.