BEGIN:VCALENDAR
VERSION:2.0
PRODID:-//hacksw/handcal//NONSGML v1.0//EN
CALSCALE:GREGORIAN
BEGIN:VEVENT
DTEND:20070607T150000Z
UID:69e6ada327c38
DTSTAMP:20260420T235011Z
LOCATION:4840 Vöcklabruck
DESCRIPTION:
URL;VALUE=URI:
SUMMARY:2. Vöcklabrucker Stadtlauf
DTSTART:20070606T230000Z
END:VEVENT
END:VCALENDAR
An internal server error occurred.