BEGIN:VCALENDAR
VERSION:2.0
PRODID:-//hacksw/handcal//NONSGML v1.0//EN
CALSCALE:GREGORIAN
BEGIN:VEVENT
DTEND:20070607T140000Z
UID:69e70ec7b9720
DTSTAMP:20260421T064439Z
LOCATION:1200 Wien
DESCRIPTION:Sportfest inkl. Knirpse- und Kinderlauf
URL;VALUE=URI:
SUMMARY:Brigittenauer Bezirkslauf
DTSTART:20070606T230000Z
END:VEVENT
END:VCALENDAR
An internal server error occurred.