BEGIN:VCALENDAR
VERSION:2.0
PRODID:-//hacksw/handcal//NONSGML v1.0//EN
CALSCALE:GREGORIAN
BEGIN:VEVENT
DTEND:20070603T073000Z
UID:69e679d552aab
DTSTAMP:20260420T200909Z
LOCATION:9635 Dellachn im Gailtal
DESCRIPTION:"Das größte Sport- und Familienfest in Oberkärnten" 
neu "Inline-Skating" am Samstag Nachmittag
URL;VALUE=URI:
SUMMARY:Dellacher Laufevent
DTSTART:20070602T230000Z
END:VEVENT
END:VCALENDAR
An internal server error occurred.