BEGIN:VCALENDAR
VERSION:2.0
PRODID:-//hacksw/handcal//NONSGML v1.0//EN
CALSCALE:GREGORIAN
BEGIN:VEVENT
DTEND:20070603T100000Z
UID:69e684c4b41a8
DTSTAMP:20260420T205548Z
LOCATION:8904 Ardning
DESCRIPTION:
URL;VALUE=URI:
SUMMARY:Ardninger Volkslauf
DTSTART:20070602T230000Z
END:VEVENT
END:VCALENDAR
An internal server error occurred.