BEGIN:VCALENDAR
VERSION:2.0
PRODID:-//hacksw/handcal//NONSGML v1.0//EN
CALSCALE:GREGORIAN
BEGIN:VEVENT
DTEND:20070603T080000Z
UID:69eca095e1c39
DTSTAMP:20260425T120805Z
LOCATION:2523 Tattendorf
DESCRIPTION:Laurentparty mit Startnummernausgabe\, Weinverkostung und Nudelschmankerln am 4.6. ab 18:00
URL;VALUE=URI:
SUMMARY:Tattendorfer St.Laurent-Lauf
DTSTART:20070602T230000Z
END:VEVENT
END:VCALENDAR
An internal server error occurred.