BEGIN:VCALENDAR
VERSION:2.0
PRODID:-//hacksw/handcal//NONSGML v1.0//EN
CALSCALE:GREGORIAN
BEGIN:VEVENT
DTEND:20070602T110000Z
UID:69eca0995ebba
DTSTAMP:20260425T120809Z
LOCATION:8992 Altaussee
DESCRIPTION:1 Runde um den Altausseer-See bzw. 2 Runden
URL;VALUE=URI:
SUMMARY:26. Reebok Narzissenlauf Altausee
DTSTART:20070601T230000Z
END:VEVENT
END:VCALENDAR
An internal server error occurred.