BEGIN:VCALENDAR
VERSION:2.0
PRODID:-//hacksw/handcal//NONSGML v1.0//EN
CALSCALE:GREGORIAN
BEGIN:VEVENT
DTEND:20070626T173000Z
UID:69e81236acc72
DTSTAMP:20260422T011134Z
LOCATION:1220 Wien
DESCRIPTION:Dieser Lauf ist ein Charity Lauf. Sämtliche Nenngelder kommen dem SOS Kinderdorf zugute. Laufen Sie mit - helfen Sie mit!
URL;VALUE=URI:
SUMMARY:6. BAXTER Donaupark Run
DTSTART:20070625T230000Z
END:VEVENT
END:VCALENDAR
An internal server error occurred.