BEGIN:VCALENDAR
VERSION:2.0
PRODID:-//hacksw/handcal//NONSGML v1.0//EN
CALSCALE:GREGORIAN
BEGIN:VEVENT
DTEND:20070812T080000Z
UID:69e956a83081f
DTSTAMP:20260423T001552Z
LOCATION:9542 Afritz
DESCRIPTION:
URL;VALUE=URI:
SUMMARY:25. Zwei-Seen-Lauf Afritz/See
DTSTART:20070811T230000Z
END:VEVENT
END:VCALENDAR
An internal server error occurred.