BEGIN:VCALENDAR
VERSION:2.0
PRODID:-//hacksw/handcal//NONSGML v1.0//EN
CALSCALE:GREGORIAN
BEGIN:VEVENT
DTEND:20070602T150000Z
UID:69e73ac7eee40
DTSTAMP:20260421T095223Z
LOCATION:2460 Bruck/Leitha
DESCRIPTION:
URL;VALUE=URI:
SUMMARY:8. Brucker Sparkasse City Lauf
DTSTART:20070601T230000Z
END:VEVENT
END:VCALENDAR
An internal server error occurred.