BEGIN:VCALENDAR
VERSION:2.0
PRODID:-//hacksw/handcal//NONSGML v1.0//EN
CALSCALE:GREGORIAN
BEGIN:VEVENT
DTEND:20070812T090000Z
UID:69e87eaaa30df
DTSTAMP:20260422T085418Z
LOCATION:8573 Kainach
DESCRIPTION:
URL;VALUE=URI:
SUMMARY:19. Int. Bergmarathon Kainach
DTSTART:20070811T230000Z
END:VEVENT
END:VCALENDAR
An internal server error occurred.