BEGIN:VCALENDAR
VERSION:2.0
PRODID:-//hacksw/handcal//NONSGML v1.0//EN
CALSCALE:GREGORIAN
BEGIN:VEVENT
DTEND:20070602T133000Z
UID:69e73aca6bb77
DTSTAMP:20260421T095226Z
LOCATION:3133 Traismauer
DESCRIPTION:Neue Strecke durch den Stadtkern.
Neu mit Meilenlauf
URL;VALUE=URI:
SUMMARY:Raiffeisen Stadtlauf Traismauer
DTSTART:20070601T230000Z
END:VEVENT
END:VCALENDAR
An internal server error occurred.