BEGIN:VCALENDAR
VERSION:2.0
PRODID:-//hacksw/handcal//NONSGML v1.0//EN
CALSCALE:GREGORIAN
BEGIN:VEVENT
DTEND:20070812T090000Z
UID:69e8635cd134c
DTSTAMP:20260422T065748Z
LOCATION:4802 Ebensee
DESCRIPTION:
URL;VALUE=URI:
SUMMARY:12. Int. Feuerkogel-Berglauf
DTSTART:20070811T230000Z
END:VEVENT
END:VCALENDAR
An internal server error occurred.