BEGIN:VCALENDAR
VERSION:2.0
PRODID:-//hacksw/handcal//NONSGML v1.0//EN
CALSCALE:GREGORIAN
BEGIN:VEVENT
DTEND:20070811T130000Z
UID:69e8b53fee894
DTSTAMP:20260422T124711Z
LOCATION:9761 Greifenbrug
DESCRIPTION:
URL;VALUE=URI:
SUMMARY:Klander-Berglauf
DTSTART:20070810T230000Z
END:VEVENT
END:VCALENDAR
An internal server error occurred.