BEGIN:VCALENDAR
VERSION:2.0
PRODID:-//hacksw/handcal//NONSGML v1.0//EN
CALSCALE:GREGORIAN
BEGIN:VEVENT
DTEND:20070811T170000Z
UID:69e87ea933354
DTSTAMP:20260422T085417Z
LOCATION:4644 Scharnstein 
DESCRIPTION:
URL;VALUE=URI:
SUMMARY:1. Scharnsteiner 4xAbendmeile
DTSTART:20070810T230000Z
END:VEVENT
END:VCALENDAR
An internal server error occurred.