BEGIN:VCALENDAR
VERSION:2.0
PRODID:-//hacksw/handcal//NONSGML v1.0//EN
CALSCALE:GREGORIAN
BEGIN:VEVENT
DTEND:20070601T150000Z
UID:69e63b4da1ef8
DTSTAMP:20260420T154221Z
LOCATION:8200 Gleisdorf
DESCRIPTION:
URL;VALUE=URI:
SUMMARY:Gleisdorfer Select Läufe
DTSTART:20070531T230000Z
END:VEVENT
END:VCALENDAR
An internal server error occurred.