BEGIN:VCALENDAR
VERSION:2.0
PRODID:-//hacksw/handcal//NONSGML v1.0//EN
CALSCALE:GREGORIAN
BEGIN:VEVENT
DTEND:20070811T140000Z
UID:69ed58a96230d
DTSTAMP:20260426T011329Z
LOCATION:4000 Mühlbach
DESCRIPTION:
URL;VALUE=URI:
SUMMARY:14. Mühlbacher Ortsrundenlauf
DTSTART:20070810T230000Z
END:VEVENT
END:VCALENDAR
An internal server error occurred.