BEGIN:VCALENDAR
VERSION:2.0
PRODID:-//hacksw/handcal//NONSGML v1.0//EN
CALSCALE:GREGORIAN
BEGIN:VEVENT
DTEND:20070528T083000Z
UID:69e8122abdb24
DTSTAMP:20260422T011122Z
LOCATION:3100 St.Pölten
DESCRIPTION:8. Lauf zum Volkslaufcup
URL;VALUE=URI:
SUMMARY:Landeshauptstadtlauf St. Pölten
DTSTART:20070527T230000Z
END:VEVENT
END:VCALENDAR
An internal server error occurred.