BEGIN:VCALENDAR
VERSION:2.0
PRODID:-//hacksw/handcal//NONSGML v1.0//EN
CALSCALE:GREGORIAN
BEGIN:VEVENT
DTEND:20070811T150000Z
UID:69e8ecd15b961
DTSTAMP:20260422T164417Z
LOCATION:4852 Weyregg
DESCRIPTION:Start: beim Gemeindeamt\, alle Teilnehmer haben freien Eintritt ins Strandbad Weyregg am Attersee
URL;VALUE=URI:
SUMMARY:9. Int. Gahberglauf
DTSTART:20070810T230000Z
END:VEVENT
END:VCALENDAR
An internal server error occurred.