BEGIN:VCALENDAR
VERSION:2.0
PRODID:-//hacksw/handcal//NONSGML v1.0//EN
CALSCALE:GREGORIAN
BEGIN:VEVENT
DTEND:20070811T140000Z
UID:69ed3dc2b08e9
DTSTAMP:20260425T231842Z
LOCATION:3313 Wallsee
DESCRIPTION:
URL;VALUE=URI:
SUMMARY:6. Wallseer Donau-Altarmlauf 
DTSTART:20070810T230000Z
END:VEVENT
END:VCALENDAR
An internal server error occurred.