BEGIN:VCALENDAR
VERSION:2.0
PRODID:-//hacksw/handcal//NONSGML v1.0//EN
CALSCALE:GREGORIAN
BEGIN:VEVENT
DTEND:20070805T070000Z
UID:69e8ecca3e1e8
DTSTAMP:20260422T164410Z
LOCATION:0 Wien
DESCRIPTION:
URL;VALUE=URI:
SUMMARY:Self Transcendence Donauparklauf
DTSTART:20070804T230000Z
END:VEVENT
END:VCALENDAR
An internal server error occurred.