BEGIN:VCALENDAR
VERSION:2.0
PRODID:-//hacksw/handcal//NONSGML v1.0//EN
CALSCALE:GREGORIAN
BEGIN:VEVENT
DTEND:20070526T160000Z
UID:69e73ac77f80d
DTSTAMP:20260421T095223Z
LOCATION:8501 Lieboch
DESCRIPTION:
URL;VALUE=URI:
SUMMARY:25. Liebocher Volkslauf
DTSTART:20070525T230000Z
END:VEVENT
END:VCALENDAR
An internal server error occurred.