BEGIN:VCALENDAR
VERSION:2.0
PRODID:-//hacksw/handcal//NONSGML v1.0//EN
CALSCALE:GREGORIAN
BEGIN:VEVENT
DTEND:20070526T110000Z
UID:69e74196b15ce
DTSTAMP:20260421T102126Z
LOCATION:6150 Steinach
DESCRIPTION:
URL;VALUE=URI:
SUMMARY:1. Int. Fell-Run\, Steinach am Brenner
DTSTART:20070525T230000Z
END:VEVENT
END:VCALENDAR
An internal server error occurred.