BEGIN:VCALENDAR
VERSION:2.0
PRODID:-//hacksw/handcal//NONSGML v1.0//EN
CALSCALE:GREGORIAN
BEGIN:VEVENT
DTEND:20070526T130000Z
UID:69e75d68ad08d
DTSTAMP:20260421T122008Z
LOCATION:4655 Vorchdorf
DESCRIPTION:
URL;VALUE=URI:
SUMMARY:Pfingstlauf neu - Vorchdorf
DTSTART:20070525T230000Z
END:VEVENT
END:VCALENDAR
An internal server error occurred.